BEGIN:VCALENDAR
VERSION:2.0
PRODID:-//Kino Tuškanac//Filmski programi//HR
BEGIN:VEVENT
UID:6705921af7ee004b905cc4a4231f38ae@kinotuskanac.hr
DTSTAMP:20260420T200109Z
DTSTART:20111216T210000
DTEND:20111216T230000
SUMMARY:Braća Skladanowsky
LOCATION:Kino Tuškanac
DESCRIPTION:Die Gebrüder Skladanowsky, 1995 R: Wim Wenders
END:VEVENT
END:VCALENDAR