BEGIN:VCALENDAR
VERSION:2.0
PRODID:-//Kino Tuškanac//Filmski programi//HR
BEGIN:VEVENT
UID:97c50ae9ed0e9f21d012562b9c9db4de@kinotuskanac.hr
DTSTAMP:20260420T200227Z
DTSTART:20111217T170000
DTEND:20111217T190000
SUMMARY:Braća Skladanowsky
LOCATION:Kino Tuškanac
DESCRIPTION:Die Gebrüder Skladanowsky, 1995 R: Wim Wenders
END:VEVENT
END:VCALENDAR