BEGIN:VCALENDAR
VERSION:2.0
PRODID:-//Kino Tuškanac//Filmski programi//HR
BEGIN:VEVENT
UID:efdb9c680d98d9c2592f9811e50e07eb@kinotuskanac.hr
DTSTAMP:20260419T225219Z
DTSTART:20111217T190000
DTEND:20111217T210000
SUMMARY:Lisabonska priča
LOCATION:Kino Tuškanac
DESCRIPTION:Lisbon Story, 1994 R: Wim Wenders
END:VEVENT
END:VCALENDAR