BEGIN:VCALENDAR
VERSION:2.0
PRODID:-//Kino Tuškanac//Filmski programi//HR
BEGIN:VEVENT
UID:d5e0fae0f2a78da7056895ea8286f4f9@kinotuskanac.hr
DTSTAMP:20260419T225219Z
DTSTART:20111221T170000
DTEND:20111221T190000
SUMMARY:Lisabonska priča
LOCATION:Kino Tuškanac
DESCRIPTION:Lisbon Story, 1994 R: Wim Wenders
END:VEVENT
END:VCALENDAR