BEGIN:VCALENDAR
VERSION:2.0
PRODID:-//Kino Tuškanac//Filmski programi//HR
BEGIN:VEVENT
UID:de5db3935993d69afdc4d807cf529cde@kinotuskanac.hr
DTSTAMP:20260425T153547Z
DTSTART:20111222T190000
DTEND:20111222T210000
SUMMARY:Soba 666
LOCATION:Kino Tuškanac
DESCRIPTION:Chambre 666, 1982 R: Wim Wenders
END:VEVENT
END:VCALENDAR