BEGIN:VCALENDAR
VERSION:2.0
PRODID:-//Kino Tuškanac//Filmski programi//HR
BEGIN:VEVENT
UID:ee5925e4d36b448cc70b674372dd4c91@kinotuskanac.hr
DTSTAMP:20260423T194629Z
DTSTART:20111124T174500
DTEND:20111124T194500
SUMMARY:Preživjet ćemo: Wounded Knee
LOCATION:Kino Tuškanac
DESCRIPTION:We Shall Remain – The Wounded Knee R: Chris Eyre
END:VEVENT
END:VCALENDAR