BEGIN:VCALENDAR
VERSION:2.0
PRODID:-//Kino Tuškanac//Filmski programi//HR
BEGIN:VEVENT
UID:89efbe336c163940cd1d0121f426c41d@kinotuskanac.hr
DTSTAMP:20260423T135115Z
DTSTART:20111130T190000
DTEND:20111130T210000
SUMMARY:Jedna žena – jedan vek
LOCATION:Kino Tuškanac
DESCRIPTION:Srbija, 2010 R: Želimir Žilnik
END:VEVENT
END:VCALENDAR