BEGIN:VCALENDAR
VERSION:2.0
PRODID:-//Kino Tuškanac//Filmski programi//HR
BEGIN:VEVENT
UID:fd8e7a25fecfee29cf8424c474962489@kinotuskanac.hr
DTSTAMP:20260419T141828Z
DTSTART:20120124T210000
DTEND:20120124T230000
SUMMARY:Mirni dani na Chlichiju
LOCATION:Kino Tuškanac
DESCRIPTION:Stille dage i Clichy, Danska, 1970 R: Jens Thorsen
END:VEVENT
END:VCALENDAR