BEGIN:VCALENDAR
VERSION:2.0
PRODID:-//Kino Tuškanac//Filmski programi//HR
BEGIN:VEVENT
UID:c52fc8b8f7b5bb9808d419efbc15bfd9@kinotuskanac.hr
DTSTAMP:20260419T141659Z
DTSTART:20120125T190000
DTEND:20120125T210000
SUMMARY:Mirni dani na Chlichiju
LOCATION:Kino Tuškanac
DESCRIPTION:Stille dage i Clichy, Danska, 1970 R: Jens Thorsen
END:VEVENT
END:VCALENDAR