BEGIN:VCALENDAR
VERSION:2.0
PRODID:-//Kino Tuškanac//Filmski programi//HR
BEGIN:VEVENT
UID:eaba40e9b47d7bcc0c33a7535b9fdc61@kinotuskanac.hr
DTSTAMP:20260423T145813Z
DTSTART:20120126T210000
DTEND:20120126T230000
SUMMARY:Frankenstein
LOCATION:Kino Tuškanac
DESCRIPTION:SAD, 1931 R: James Whale
END:VEVENT
END:VCALENDAR