BEGIN:VCALENDAR
VERSION:2.0
PRODID:-//Kino Tuškanac//Filmski programi//HR
BEGIN:VEVENT
UID:85bb89cd548e933dac0fe6d3f3ddbce0@kinotuskanac.hr
DTSTAMP:20260423T145703Z
DTSTART:20120127T190000
DTEND:20120127T210000
SUMMARY:Frankenstein
LOCATION:Kino Tuškanac
DESCRIPTION:SAD, 1931 R: James Whale
END:VEVENT
END:VCALENDAR