BEGIN:VCALENDAR
VERSION:2.0
PRODID:-//Kino Tuškanac//Filmski programi//HR
BEGIN:VEVENT
UID:3620bfda924a8b4a5d24e0036161d063@kinotuskanac.hr
DTSTAMP:20260425T213737Z
DTSTART:20120201T190000
DTEND:20120201T210000
SUMMARY:Pušća Bistra
LOCATION:Kino Tuškanac
DESCRIPTION:2005. R: Filip Šovagović
END:VEVENT
END:VCALENDAR