BEGIN:VCALENDAR
VERSION:2.0
PRODID:-//Kino Tuškanac//Filmski programi//HR
BEGIN:VEVENT
UID:21a3f11e4c92286c77ff5505c3c9d7fa@kinotuskanac.hr
DTSTAMP:20260425T213140Z
DTSTART:20120202T210000
DTEND:20120202T230000
SUMMARY:Pušća Bistra
LOCATION:Kino Tuškanac
DESCRIPTION:2005. R: Filip Šovagović
END:VEVENT
END:VCALENDAR