BEGIN:VCALENDAR
VERSION:2.0
PRODID:-//Kino Tuškanac//Filmski programi//HR
BEGIN:VEVENT
UID:84729f163b5ed10cc4f9ac442360c0e6@kinotuskanac.hr
DTSTAMP:20260424T212208Z
DTSTART:20031021T170000
DTEND:20031021T190000
SUMMARY:Osuđeni
LOCATION:Kino Tuškanac
DESCRIPTION:1987 R: Zoran Tadić
END:VEVENT
END:VCALENDAR