BEGIN:VCALENDAR
VERSION:2.0
PRODID:-//Kino Tuškanac//Filmski programi//HR
BEGIN:VEVENT
UID:84b82037c6461e01a3f999db8602e836@kinotuskanac.hr
DTSTAMP:20260421T080556Z
DTSTART:20120220T210000
DTEND:20120220T230000
SUMMARY:Noć
LOCATION:Kino Tuškanac
DESCRIPTION:La notte, Italija, Francuska, 1961 R: Michelangelo Antonioni
END:VEVENT
END:VCALENDAR