BEGIN:VCALENDAR
VERSION:2.0
PRODID:-//Kino Tuškanac//Filmski programi//HR
BEGIN:VEVENT
UID:03445da16e5067d2e0edbe22d4c774bd@kinotuskanac.hr
DTSTAMP:20260421T093328Z
DTSTART:20120221T190000
DTEND:20120221T210000
SUMMARY:Noć
LOCATION:Kino Tuškanac
DESCRIPTION:La notte, Italija, Francuska, 1961 R: Michelangelo Antonioni
END:VEVENT
END:VCALENDAR