BEGIN:VCALENDAR
VERSION:2.0
PRODID:-//Kino Tuškanac//Filmski programi//HR
BEGIN:VEVENT
UID:7f9fa804f8aeb7dea13a3952092506e0@kinotuskanac.hr
DTSTAMP:20260419T225655Z
DTSTART:20120224T210000
DTEND:20120224T230000
SUMMARY:Goli otok (1960)
LOCATION:Kino Tuškanac
DESCRIPTION:Hadaka no shima, 1960 R: Kaneto Shindô
END:VEVENT
END:VCALENDAR