BEGIN:VCALENDAR
VERSION:2.0
PRODID:-//Kino Tuškanac//Filmski programi//HR
BEGIN:VEVENT
UID:0970e9338682cd980d24e4db312eeb8b@kinotuskanac.hr
DTSTAMP:20260419T225922Z
DTSTART:20120225T190000
DTEND:20120225T210000
SUMMARY:Goli otok (1960)
LOCATION:Kino Tuškanac
DESCRIPTION:Hadaka no shima, 1960 R: Kaneto Shindô
END:VEVENT
END:VCALENDAR