BEGIN:VCALENDAR
VERSION:2.0
PRODID:-//Kino Tuškanac//Filmski programi//HR
BEGIN:VEVENT
UID:47de7c4f41311ffd19cad6ab399e039a@kinotuskanac.hr
DTSTAMP:20260419T141943Z
DTSTART:20120406T190000
DTEND:20120406T210000
SUMMARY:Oliver Twist
LOCATION:Kino Tuškanac
DESCRIPTION:UK, 1948 R: David Lean
END:VEVENT
END:VCALENDAR