BEGIN:VCALENDAR
VERSION:2.0
PRODID:-//Kino Tuškanac//Filmski programi//HR
BEGIN:VEVENT
UID:5faac78d8660ff99d1e6982c26def835@kinotuskanac.hr
DTSTAMP:20260419T141657Z
DTSTART:20120407T210000
DTEND:20120407T230000
SUMMARY:Oliver Twist
LOCATION:Kino Tuškanac
DESCRIPTION:UK, 1948 R: David Lean
END:VEVENT
END:VCALENDAR