BEGIN:VCALENDAR
VERSION:2.0
PRODID:-//Kino Tuškanac//Filmski programi//HR
BEGIN:VEVENT
UID:468153ec4f03f246a67ddc32df8a7830@kinotuskanac.hr
DTSTAMP:20260422T234630Z
DTSTART:20120410T210000
DTEND:20120410T230000
SUMMARY:Priča o dva grada
LOCATION:Kino Tuškanac
DESCRIPTION:A Tale of Two Cities, 1958. R: Ralph Thomas
END:VEVENT
END:VCALENDAR