BEGIN:VCALENDAR
VERSION:2.0
PRODID:-//Kino Tuškanac//Filmski programi//HR
BEGIN:VEVENT
UID:f5cfac80433324a612724685c2ffdad8@kinotuskanac.hr
DTSTAMP:20260422T234823Z
DTSTART:20120411T190000
DTEND:20120411T210000
SUMMARY:Priča o dva grada
LOCATION:Kino Tuškanac
DESCRIPTION:A Tale of Two Cities, 1958. R: Ralph Thomas
END:VEVENT
END:VCALENDAR