BEGIN:VCALENDAR
VERSION:2.0
PRODID:-//Kino Tuškanac//Filmski programi//HR
BEGIN:VEVENT
UID:19e16a5cac387126e6e5c5e5856cf702@kinotuskanac.hr
DTSTAMP:20260419T185926Z
DTSTART:20120320T190000
DTEND:20120320T210000
SUMMARY:Drvo
LOCATION:Kino Tuškanac
DESCRIPTION:L'Arbre, Francuska, 2010 R: Julie Bertuccelli
END:VEVENT
END:VCALENDAR