BEGIN:VCALENDAR
VERSION:2.0
PRODID:-//Kino Tuškanac//Filmski programi//HR
BEGIN:VEVENT
UID:0f930ddecf37b08aa3722ccb604780d7@kinotuskanac.hr
DTSTAMP:20260421T093222Z
DTSTART:20120322T190000
DTEND:20120322T210000
SUMMARY:Katanga Business
LOCATION:Kino Tuškanac
DESCRIPTION:Belgija, 2009 R: Thierry Michel
END:VEVENT
END:VCALENDAR