BEGIN:VCALENDAR
VERSION:2.0
PRODID:-//Kino Tuškanac//Filmski programi//HR
BEGIN:VEVENT
UID:dbe801d6366b43aacd73a994786fc764@kinotuskanac.hr
DTSTAMP:20260421T093222Z
DTSTART:20120325T190000
DTEND:20120325T210000
SUMMARY:Rijeka Kongo
LOCATION:Kino Tuškanac
DESCRIPTION:Congo River, Belgija, 2006 R: Thierry Michel
END:VEVENT
END:VCALENDAR