BEGIN:VCALENDAR
VERSION:2.0
PRODID:-//Kino Tuškanac//Filmski programi//HR
BEGIN:VEVENT
UID:a31f5224c6fa8edc99351c00dd576b7b@kinotuskanac.hr
DTSTAMP:20260425T174047Z
DTSTART:20120420T210000
DTEND:20120420T230000
SUMMARY:U znaku grada
LOCATION:Kino Tuškanac
DESCRIPTION:O Signo da Cidade, 2007. R: Carlos Riccelli
END:VEVENT
END:VCALENDAR