BEGIN:VCALENDAR
VERSION:2.0
PRODID:-//Kino Tuškanac//Filmski programi//HR
BEGIN:VEVENT
UID:f8533182f8510642fdfa20f1f56a90dd@kinotuskanac.hr
DTSTAMP:20260425T174118Z
DTSTART:20120421T190000
DTEND:20120421T210000
SUMMARY:U znaku grada
LOCATION:Kino Tuškanac
DESCRIPTION:O Signo da Cidade, 2007. R: Carlos Riccelli
END:VEVENT
END:VCALENDAR