BEGIN:VCALENDAR
VERSION:2.0
PRODID:-//Kino Tuškanac//Filmski programi//HR
BEGIN:VEVENT
UID:346c47c76cb9679d4d885467fe95f7f5@kinotuskanac.hr
DTSTAMP:20260420T011637Z
DTSTART:20031104T190000
DTEND:20031104T210000
SUMMARY:Do kraja svijeta
LOCATION:Kino Tuškanac
DESCRIPTION:Bis ans Ende der Welt, 1991 R: Wim Wenders
END:VEVENT
END:VCALENDAR