BEGIN:VCALENDAR
VERSION:2.0
PRODID:-//Kino Tuškanac//Filmski programi//HR
BEGIN:VEVENT
UID:fb89c5f0a9c0e02b0892b8426ed1db5f@kinotuskanac.hr
DTSTAMP:20260423T143726Z
DTSTART:20120612T190000
DTEND:20120612T210000
SUMMARY:Borbena elegija
LOCATION:Kino Tuškanac
DESCRIPTION:Kenka erejii, Fighting Elegy, 1966. R: Seijun Suzuki
END:VEVENT
END:VCALENDAR