BEGIN:VCALENDAR
VERSION:2.0
PRODID:-//Kino Tuškanac//Filmski programi//HR
BEGIN:VEVENT
UID:1ae0684f0c4e79d642e12a76c3cd7ed6@kinotuskanac.hr
DTSTAMP:20260423T143821Z
DTSTART:20120613T210000
DTEND:20120613T230000
SUMMARY:Borbena elegija
LOCATION:Kino Tuškanac
DESCRIPTION:Kenka erejii, Fighting Elegy, 1966. R: Seijun Suzuki
END:VEVENT
END:VCALENDAR