BEGIN:VCALENDAR
VERSION:2.0
PRODID:-//Kino Tuškanac//Filmski programi//HR
BEGIN:VEVENT
UID:f3bde2fe6370babdb0c052852a5ec39d@kinotuskanac.hr
DTSTAMP:20260423T143708Z
DTSTART:20120614T190000
DTEND:20120614T210000
SUMMARY:Lučka zdravica: Pobjeda u mojim rukama
LOCATION:Kino Tuškanac
DESCRIPTION:Minato no kanpai: Shôri o waga te ni, Harbour Toast: Victory in My Hands, 1956. R: Seijun Suzuki
END:VEVENT
END:VCALENDAR