BEGIN:VCALENDAR
VERSION:2.0
PRODID:-//Kino Tuškanac//Filmski programi//HR
BEGIN:VEVENT
UID:db0e2184ca221e40ad9f16aecba9026a@kinotuskanac.hr
DTSTAMP:20260423T143725Z
DTSTART:20120615T210000
DTEND:20120615T230000
SUMMARY:Lučka zdravica: Pobjeda u mojim rukama
LOCATION:Kino Tuškanac
DESCRIPTION:Minato no kanpai: Shôri o waga te ni, Harbour Toast: Victory in My Hands, 1956. R: Seijun Suzuki
END:VEVENT
END:VCALENDAR