BEGIN:VCALENDAR
VERSION:2.0
PRODID:-//Kino Tuškanac//Filmski programi//HR
BEGIN:VEVENT
UID:8f5a56abe20111f60c4faa818008839c@kinotuskanac.hr
DTSTAMP:20260423T144648Z
DTSTART:20120626T190000
DTEND:20120626T210000
SUMMARY:Naša krv neće oprostiti
LOCATION:Kino Tuškanac
DESCRIPTION:Oretachi no chi ga yurusanai, Our Blood Will Not Forgive, 1964. R: Seijun Suzuki
END:VEVENT
END:VCALENDAR