BEGIN:VCALENDAR
VERSION:2.0
PRODID:-//Kino Tuškanac//Filmski programi//HR
BEGIN:VEVENT
UID:53370d93171225c3cb5ae1d7e60adc2b@kinotuskanac.hr
DTSTAMP:20260421T093236Z
DTSTART:20120422T203000
DTEND:20120422T223000
SUMMARY:Gomorra
LOCATION:Kino Tuškanac
DESCRIPTION:2008. R: Matteo Garrone
END:VEVENT
END:VCALENDAR