BEGIN:VCALENDAR
VERSION:2.0
PRODID:-//Kino Tuškanac//Filmski programi//HR
BEGIN:VEVENT
UID:5492d5132d3903095874639df4dd1411@kinotuskanac.hr
DTSTAMP:20260421T080353Z
DTSTART:20121001T200000
DTEND:20121001T220000
SUMMARY:Legenda o Genjiju
LOCATION:Kino Tuškanac
DESCRIPTION:Genji monogatari, 1951. R: Kozaburo Yoshimura
END:VEVENT
END:VCALENDAR