BEGIN:VCALENDAR
VERSION:2.0
PRODID:-//Kino Tuškanac//Filmski programi//HR
BEGIN:VEVENT
UID:34bda9d822e73a754c938f2615450e21@kinotuskanac.hr
DTSTAMP:20260420T061421Z
DTSTART:20031118T170000
DTEND:20031118T190000
SUMMARY:Ne daj se, Floki
LOCATION:Kino Tuškanac
DESCRIPTION:Hrvatska, 2000 R: Zoran Tadić
END:VEVENT
END:VCALENDAR