BEGIN:VCALENDAR
VERSION:2.0
PRODID:-//Kino Tuškanac//Filmski programi//HR
BEGIN:VEVENT
UID:0d82f936ba15046bf227033cb8c49547@kinotuskanac.hr
DTSTAMP:20260423T085620Z
DTSTART:20121002T213000
DTEND:20121002T233000
SUMMARY:Legenda o Genjiju
LOCATION:Kino Tuškanac
DESCRIPTION:Genji monogatari, 1951. R: Kozaburo Yoshimura
END:VEVENT
END:VCALENDAR