BEGIN:VCALENDAR
VERSION:2.0
PRODID:-//Kino Tuškanac//Filmski programi//HR
BEGIN:VEVENT
UID:f95211b2b6d4587831eef9b82dfce525@kinotuskanac.hr
DTSTAMP:20260421T093042Z
DTSTART:20121003T210000
DTEND:20121003T230000
SUMMARY:Mlade žene iz Izua
LOCATION:Kino Tuškanac
DESCRIPTION:Izu no musumetachi, 1945. R: Heinosuke Gosho
END:VEVENT
END:VCALENDAR