BEGIN:VCALENDAR
VERSION:2.0
PRODID:-//Kino Tuškanac//Filmski programi//HR
BEGIN:VEVENT
UID:4152401549228259775daa6d741e2006@kinotuskanac.hr
DTSTAMP:20260421T080505Z
DTSTART:20121004T190000
DTEND:20121004T210000
SUMMARY:Mlade žene iz Izua
LOCATION:Kino Tuškanac
DESCRIPTION:Izu no musumetachi, 1945. R: Heinosuke Gosho
END:VEVENT
END:VCALENDAR