BEGIN:VCALENDAR
VERSION:2.0
PRODID:-//Kino Tuškanac//Filmski programi//HR
BEGIN:VEVENT
UID:45023b826cf1787dfb10ec0895f6c709@kinotuskanac.hr
DTSTAMP:20260421T143631Z
DTSTART:20121005T214000
DTEND:20121005T234000
SUMMARY:Ljubavno pismo
LOCATION:Kino Tuškanac
DESCRIPTION:Koibumi, 1985. R: Tatsumi Kumashiro
END:VEVENT
END:VCALENDAR