BEGIN:VCALENDAR
VERSION:2.0
PRODID:-//Kino Tuškanac//Filmski programi//HR
BEGIN:VEVENT
UID:9fda941d41918d9d28f41efaa8b87e6a@kinotuskanac.hr
DTSTAMP:20260423T143626Z
DTSTART:20031118T190000
DTEND:20031118T210000
SUMMARY:Život je sladak
LOCATION:Kino Tuškanac
DESCRIPTION:Life is Sweet, 1990 R: Mike Leigh
END:VEVENT
END:VCALENDAR