BEGIN:VCALENDAR
VERSION:2.0
PRODID:-//Kino Tuškanac//Filmski programi//HR
BEGIN:VEVENT
UID:f58befa4808e88e30cac48c0763a3be3@kinotuskanac.hr
DTSTAMP:20260421T133508Z
DTSTART:20121006T190000
DTEND:20121006T210000
SUMMARY:Ljubavno pismo
LOCATION:Kino Tuškanac
DESCRIPTION:Koibumi, 1985. R: Tatsumi Kumashiro
END:VEVENT
END:VCALENDAR