BEGIN:VCALENDAR
VERSION:2.0
PRODID:-//Kino Tuškanac//Filmski programi//HR
BEGIN:VEVENT
UID:69723206356bc4f27b4ae607eef9b86d@kinotuskanac.hr
DTSTAMP:20260421T093010Z
DTSTART:20121007T190000
DTEND:20121007T210000
SUMMARY:Zegen
LOCATION:Kino Tuškanac
DESCRIPTION:1987. R: Shôhei Imamura
END:VEVENT
END:VCALENDAR