BEGIN:VCALENDAR
VERSION:2.0
PRODID:-//Kino Tuškanac//Filmski programi//HR
BEGIN:VEVENT
UID:c7cf8fc1cf7591592ec1d32d4fec2e42@kinotuskanac.hr
DTSTAMP:20260421T133508Z
DTSTART:20121009T190000
DTEND:20121009T210000
SUMMARY:Izvan ovog svijeta
LOCATION:Kino Tuškanac
DESCRIPTION:Kono yo no sotoe – Club Shinchugun, 2004. R: Junji Sakamoto
END:VEVENT
END:VCALENDAR