BEGIN:VCALENDAR
VERSION:2.0
PRODID:-//Kino Tuškanac//Filmski programi//HR
BEGIN:VEVENT
UID:f84fe2b3894b8aee84a8c16dbf46c148@kinotuskanac.hr
DTSTAMP:20260421T093036Z
DTSTART:20121010T170000
DTEND:20121010T190000
SUMMARY:Zegen
LOCATION:Kino Tuškanac
DESCRIPTION:1987. R: Shôhei Imamura
END:VEVENT
END:VCALENDAR