BEGIN:VCALENDAR
VERSION:2.0
PRODID:-//Kino Tuškanac//Filmski programi//HR
BEGIN:VEVENT
UID:17b0607636f925f1e8d5a06c7d339373@kinotuskanac.hr
DTSTAMP:20260423T143626Z
DTSTART:20031118T210000
DTEND:20031118T230000
SUMMARY:Razgolićeni
LOCATION:Kino Tuškanac
DESCRIPTION:Naked, 1993 R: Mike Leigh
END:VEVENT
END:VCALENDAR