BEGIN:VCALENDAR
VERSION:2.0
PRODID:-//Kino Tuškanac//Filmski programi//HR
BEGIN:VEVENT
UID:f0a16317c8ccf818dfa522155b0aa261@kinotuskanac.hr
DTSTAMP:20260423T161009Z
DTSTART:20121031T190000
DTEND:20121031T210000
SUMMARY:Sentimentalne sudbine
LOCATION:Kino Tuškanac
DESCRIPTION:Les destinées sentimentales, 2000. R: Olivier Assayas
END:VEVENT
END:VCALENDAR