BEGIN:VCALENDAR
VERSION:2.0
PRODID:-//Kino Tuškanac//Filmski programi//HR
BEGIN:VEVENT
UID:7e9bffd421fa92a3145478ec4318bf6b@kinotuskanac.hr
DTSTAMP:20260421T092718Z
DTSTART:20121108T190000
DTEND:20121108T210000
SUMMARY:Tako normalni
LOCATION:Kino Tuškanac
DESCRIPTION:Os Normais, Brazil, 2003 R: José Alvarenga Jr.
END:VEVENT
END:VCALENDAR