BEGIN:VCALENDAR
VERSION:2.0
PRODID:-//Kino Tuškanac//Filmski programi//HR
BEGIN:VEVENT
UID:31f1baa070ff48a46d5c474c38cc2668@kinotuskanac.hr
DTSTAMP:20260425T102024Z
DTSTART:20121108T210000
DTEND:20121108T230000
SUMMARY:Da sam na tvom mjestu
LOCATION:Kino Tuškanac
DESCRIPTION:Se eu fosse você, Brazil, 2006 R: Daniel Filho
END:VEVENT
END:VCALENDAR