BEGIN:VCALENDAR
VERSION:2.0
PRODID:-//Kino Tuškanac//Filmski programi//HR
BEGIN:VEVENT
UID:1c02e6ce8fe4549f99321bbf95f61c3b@kinotuskanac.hr
DTSTAMP:20260421T092813Z
DTSTART:20121112T210000
DTEND:20121112T230000
SUMMARY:Ljepotica i paparazzo
LOCATION:Kino Tuškanac
DESCRIPTION:A Bela e o Paparazzo, Portugal, 2010 R: António-Pedro Vasconcelos
END:VEVENT
END:VCALENDAR